BEGIN:VCALENDAR
VERSION:2.0
PRODID:-//Casal Lambda - ECPv6.15.20//NONSGML v1.0//EN
CALSCALE:GREGORIAN
METHOD:PUBLISH
X-ORIGINAL-URL:https://lambda.cat
X-WR-CALDESC:Esdeveniments per Casal Lambda
REFRESH-INTERVAL;VALUE=DURATION:PT1H
X-Robots-Tag:noindex
X-PUBLISHED-TTL:PT1H
BEGIN:VTIMEZONE
TZID:Europe/Madrid
BEGIN:DAYLIGHT
TZOFFSETFROM:+0100
TZOFFSETTO:+0200
TZNAME:CEST
DTSTART:20250330T010000
END:DAYLIGHT
BEGIN:STANDARD
TZOFFSETFROM:+0200
TZOFFSETTO:+0100
TZNAME:CET
DTSTART:20251026T010000
END:STANDARD
BEGIN:DAYLIGHT
TZOFFSETFROM:+0100
TZOFFSETTO:+0200
TZNAME:CEST
DTSTART:20260329T010000
END:DAYLIGHT
BEGIN:STANDARD
TZOFFSETFROM:+0200
TZOFFSETTO:+0100
TZNAME:CET
DTSTART:20261025T010000
END:STANDARD
BEGIN:DAYLIGHT
TZOFFSETFROM:+0100
TZOFFSETTO:+0200
TZNAME:CEST
DTSTART:20270328T010000
END:DAYLIGHT
BEGIN:STANDARD
TZOFFSETFROM:+0200
TZOFFSETTO:+0100
TZNAME:CET
DTSTART:20271031T010000
END:STANDARD
END:VTIMEZONE
BEGIN:VEVENT
DTSTART;TZID=Europe/Madrid:20260327T190000
DTEND;TZID=Europe/Madrid:20260327T200000
DTSTAMP:20260420T065951
CREATED:20260310T184931Z
LAST-MODIFIED:20260323T152132Z
UID:13270-1774638000-1774641600@lambda.cat
SUMMARY:PÒDCAST MARÇ
DESCRIPTION:PODCAST LAMBDA \nXXVI Episodi de Memòries LGTBIQA del PodcastLambda del mes de març\, amb l’entrevista conduïda per la Carme Porta i el Jordi Trilla a\nFerran Pujol\, membre fundador i director de Projecte dels NOMS-Hispanosida\, i membre fundador i director de BCN Checkpoint \n \nDIA: 27 DE MARÇ DE 2026 A LES 19H\nLLOC:  C/Comte Borrell\, 22 (Barcelona)\nInscripcions a: atencio@lambda.cat\nAmb INTÈRPRET PER A PERSONES SORDES. \nAquest espai rep el suport del Departament de Justícia\, Drets i Memòria de la Generalitat de Catalunya\, de la Diputació de Barcelona\, l’Ajuntament de Barcelona i del Ministerio de Política Territorial y Memoria Democrática\, y el Ministerio de Igualdad \n 
URL:https://lambda.cat/esdeveniment/podcast-marc/
LOCATION:Centre LGTBI de Barcelona\, Comte Borrell\, 22\, Barcelona\, Barcelona\, 08015\, Espanya
CATEGORIES:Casal,Podcast Lambda
ATTACH;FMTTYPE=image/png:https://lambda.cat/wp-content/uploads/2026/03/FORMAT-HORITZONTAL6.png
ORGANIZER;CN="Casal Lambda":MAILTO:atencio@lambda.cat
END:VEVENT
END:VCALENDAR