BEGIN:VCALENDAR
VERSION:2.0
PRODID:-//Casal Lambda - ECPv6.15.20//NONSGML v1.0//EN
CALSCALE:GREGORIAN
METHOD:PUBLISH
X-WR-CALNAME:Casal Lambda
X-ORIGINAL-URL:https://lambda.cat
X-WR-CALDESC:Esdeveniments per Casal Lambda
REFRESH-INTERVAL;VALUE=DURATION:PT1H
X-Robots-Tag:noindex
X-PUBLISHED-TTL:PT1H
BEGIN:VTIMEZONE
TZID:Europe/Madrid
BEGIN:DAYLIGHT
TZOFFSETFROM:+0100
TZOFFSETTO:+0200
TZNAME:CEST
DTSTART:20250330T010000
END:DAYLIGHT
BEGIN:STANDARD
TZOFFSETFROM:+0200
TZOFFSETTO:+0100
TZNAME:CET
DTSTART:20251026T010000
END:STANDARD
BEGIN:DAYLIGHT
TZOFFSETFROM:+0100
TZOFFSETTO:+0200
TZNAME:CEST
DTSTART:20260329T010000
END:DAYLIGHT
BEGIN:STANDARD
TZOFFSETFROM:+0200
TZOFFSETTO:+0100
TZNAME:CET
DTSTART:20261025T010000
END:STANDARD
BEGIN:DAYLIGHT
TZOFFSETFROM:+0100
TZOFFSETTO:+0200
TZNAME:CEST
DTSTART:20270328T010000
END:DAYLIGHT
BEGIN:STANDARD
TZOFFSETFROM:+0200
TZOFFSETTO:+0100
TZNAME:CET
DTSTART:20271031T010000
END:STANDARD
END:VTIMEZONE
BEGIN:VEVENT
DTSTART;TZID=Europe/Madrid:20260308T093000
DTEND;TZID=Europe/Madrid:20260308T140000
DTSTAMP:20260422T125617
CREATED:20260105T084255Z
LAST-MODIFIED:20260105T094445Z
UID:12943-1772962200-1772978400@lambda.cat
SUMMARY:Sortides culturals. Museu del Renaixement
DESCRIPTION:El Renaixement reviu a Molins de Rei\n \n \n 
URL:https://lambda.cat/esdeveniment/sortides-culturals-museu-del-renaixement/
CATEGORIES:Casal,Sortides culturals
ATTACH;FMTTYPE=image/png:https://lambda.cat/wp-content/uploads/2026/01/Museu-Renaixement-Marc26_FORMAT-HORITZONTAL.png
ORGANIZER;CN="Sortides Culturals":MAILTO:activitats@lambda.cat
END:VEVENT
END:VCALENDAR