BEGIN:VCALENDAR
VERSION:2.0
PRODID:-//Casal Lambda - ECPv6.15.20//NONSGML v1.0//EN
CALSCALE:GREGORIAN
METHOD:PUBLISH
X-WR-CALNAME:Casal Lambda
X-ORIGINAL-URL:https://lambda.cat
X-WR-CALDESC:Esdeveniments per Casal Lambda
REFRESH-INTERVAL;VALUE=DURATION:PT1H
X-Robots-Tag:noindex
X-PUBLISHED-TTL:PT1H
BEGIN:VTIMEZONE
TZID:Europe/Madrid
BEGIN:DAYLIGHT
TZOFFSETFROM:+0100
TZOFFSETTO:+0200
TZNAME:CEST
DTSTART:20240331T010000
END:DAYLIGHT
BEGIN:STANDARD
TZOFFSETFROM:+0200
TZOFFSETTO:+0100
TZNAME:CET
DTSTART:20241027T010000
END:STANDARD
BEGIN:DAYLIGHT
TZOFFSETFROM:+0100
TZOFFSETTO:+0200
TZNAME:CEST
DTSTART:20250330T010000
END:DAYLIGHT
BEGIN:STANDARD
TZOFFSETFROM:+0200
TZOFFSETTO:+0100
TZNAME:CET
DTSTART:20251026T010000
END:STANDARD
BEGIN:DAYLIGHT
TZOFFSETFROM:+0100
TZOFFSETTO:+0200
TZNAME:CEST
DTSTART:20260329T010000
END:DAYLIGHT
BEGIN:STANDARD
TZOFFSETFROM:+0200
TZOFFSETTO:+0100
TZNAME:CET
DTSTART:20261025T010000
END:STANDARD
END:VTIMEZONE
BEGIN:VEVENT
DTSTART;TZID=Europe/Madrid:20251115T100000
DTEND;TZID=Europe/Madrid:20251115T170000
DTSTAMP:20260422T231727
CREATED:20251103T174059Z
LAST-MODIFIED:20251103T174105Z
UID:12756-1763200800-1763226000@lambda.cat
SUMMARY:Sortida assaonada Castelldefels i Parc Natural del Garraf
DESCRIPTION:ITINERARI PER CASTELLDEFELS I VISITA ENTRADA AL PARC NATURAL DEL GARRAF\n  \n  \n   \nDIA: 15 de novembre 2025 \nHORA I LLOC TROBADA: 10:00h a l’estació Renfe Castelldefels \nITINERARI: Farem un passeig tranquil de 7 km. \nDIFICULTAT: fàcil \nPREU: gratuïta \nCAL PORTAR: motxilla\, aigua i gorra \nDINAR: farem una paella a la zona de la platja (restaurant Rincón de Lola) \nINSCRIPCIÓ I RESERVA: assaonats@lambda.cat \nTel i whatsapp: 679 205 204 \n 
URL:https://lambda.cat/esdeveniment/sortida-assaonada-castelldefels-i-parc-natural-del-garraf/
CATEGORIES:Excursions,Grups
ATTACH;FMTTYPE=image/jpeg:https://lambda.cat/wp-content/uploads/2025/11/Sortada-assaonada.jpg
ORGANIZER;CN="Casal Lambda":MAILTO:atencio@lambda.cat
END:VEVENT
BEGIN:VEVENT
DTSTART;TZID=Europe/Madrid:20251116T113000
DTEND;TZID=Europe/Madrid:20251116T143000
DTSTAMP:20260422T231727
CREATED:20250926T103528Z
LAST-MODIFIED:20250926T103539Z
UID:12651-1763292600-1763303400@lambda.cat
SUMMARY:Sortides Culturals. El Museu de la Xocolata
DESCRIPTION:EL MUSEU DE LA XOCOLATA \nUs proposem una activitat dolça i cultural alhora: una visita al Museu de la Xocolata de Barcelona\, situat en un dels edificis més emblemàtics de la ciutat. Art\, història\, llegenda\, tradició i xocolata artesanal. Una experiència per despertar els sentits i compartir bons moments en grup.\nApunta’t i vine a viure aquesta experiència tan llaminera! \n  \nDINAR OPTATIU: si teniu interès a quedar-vos a dinar\, ho comuniqueu a la inscripció.\nNOTA: A les sortides es fan fotografies per divulgar la participació. Si no dieu res\, entenem que doneu permís per aquesta acció. \n 
URL:https://lambda.cat/esdeveniment/sortides-culturals-el-museu-de-la-xocolata/
LOCATION:museu de la Xocolata\, Carrer del Comerç\, 36\, Ciutat Vella\, Barcelona\, Barcelona\, 08003
CATEGORIES:Excursions,Sortides culturals
ATTACH;FMTTYPE=image/jpeg:https://lambda.cat/wp-content/uploads/2025/09/135-Museu-Xocolata-imagenes-0-1-002-scaled.jpg
END:VEVENT
BEGIN:VEVENT
DTSTART;TZID=Europe/Madrid:20251123T081500
DTEND;TZID=Europe/Madrid:20251123T200000
DTSTAMP:20260422T231727
CREATED:20251106T163748Z
LAST-MODIFIED:20251106T163755Z
UID:12769-1763885700-1763928000@lambda.cat
SUMMARY:Grup de Muntanya. Castelltallat – Bages
DESCRIPTION:CASTELLTALLAT-BAGES\n  \n \n  \nSituats al cor de Catalunya i en ple territori de frontera entre la Catalunya Vella i la Catalunya Nova ens enfilarem fins a dalt de la Serra de Castelltallat\, dins l’extens municipi de Sant Mateu de Bages. Caminarem enmig d’un paisatge eminentment forestal\, principalment ocupat per boscos de pi blanc i pinassa\, intercalat amb camps de cereals. El foc va afectar greument la serra els anys 1994 i 1998\, però quasi 30 anys després els pins\, alzines i roures han tornat a colonitzar aquests paratges esquitxats de grans masos\, tots ells orientats vers migjorn i amb magnífiques vistes sobre el massís de Montserrat. En un dels turons de la serra\, declarada Espai d’Interès Natural\, hi trobem el nucli de Castelltallat\, coronat per les ruïnes de l’antic castell del segle X\, el qual comparteix avui en dia emplaçament amb un modern observatori astronòmic. L’església parroquial de Sant Miquel és l’altre element d’interès de Castelltallat. A més de 900 m d’altitud\, les vistes cap a la serralada prelitoral i prepirinenca son immillorables. \nDIA: Diumenge 23 de novembre de 2025 \nLLOC DE SORTIDA:  \nPels que surten de Barcelona: 8.15h a Fabra i Puig. \nPer a la resta: 9.30h a Cal Calet de Fonollosa (lloc per fer un cafè). Aquí serà la trobada per tothom. \nDESCRIPCIÓ GENERAL: Amb els cotxes\, una vegada esmorzats a Fonollosa\, anirem fins al nucli de Camps. Aparcarem els cotxes just a l’entrada del poble a mà dreta al final del camí\, on hi ha una gran esplanada. Des d’aquí començarem la caminada\, on resseguirem tota l’estona el GR3 fins arribar a Castelltallat. A Camps podrem veure una necròpolis al costat de l’església i just sortint del petit nucli de cases\, el camí s’enfila suaument en direcció oest entre camps\, oliveres i algunes clapes de bosc. Passarem pel costat d’una antiga barraca de vinya\, testimoni de la vinya que en el passat ocupava bona part d’aquest territori. De cop i volta el camí s’orienta cap al nord i guanya ràpidament alçada enmig de pinedes de pi blanc i pinassa fins arribar a l’església romànica en ruïnes de Santa Margarida de Bonveí. \nAquí podrem fer una breu parada per esmorzar i gaudir d’unes magnífiques vistes de tota la serralada prelitoral. Continuarem el camí cap a l’oest fins arribar a la cota 800 m i passarem per masos tant importants com la Vila i la Morera. Finalment\, arribarem a Castelltallat\, visitarem per fora l’església\, el Castell i l’observatori astronòmic i dinarem al costat de les antigues escoles. De tornada\, refarem un tros de GR3\, per més endavant desviar-nos cap a la dreta\, deixar el GR i començar a baixar de nou fins arribar a Camps on acabem la sortida prenent un refresc al casal de l’Associació de Veïns. \nDADES:  Distància aprox.:                          17 Km. \nDurada caminada.:                      5h30 aproximadament \nDesnivell acumulat:                    450 m de desnivell acumulat \nDificultat:                                      Baixa-mitjana \n  \nQUÈ CAL PORTAR:  Esmorzar\, dinar\, aigua (no hi ha fonts pel camí)\, roba d’abric (mirar previsió dia abans) gorra\, bon calçat i impermeable. \nPREU:   5 € les persones no sòcies \nINSCRIPCIONS: Envieu un e-mail (muntanya@lambdaweb.org) per reservar plaça i les persones que hagin de fer l’ingrés a BBVA ES72 0182 4609 9802 0116 3862 que indiquin com a concepte el nom i CASTELLTALLAT. També us podeu apuntar directament al Casal (Comte Borrell\, 22 – 08015 Barcelona\, tel. 93 319 55 50). \nAQUESTA EXCURSIÓ NO INCLOU ASSEGURANÇA EN CAS D’ACCIDENT.  \nL’assegurança corre a càrrec de cadascú\, no assumint l’organització cap responsabilitat pels danys o perjudicis que la pràctica de l’activitat pugui ocasionar a un mateix i/o a tercers\, si bé vetllarà per tal d’evitar-los. \nGrup adherit a la Federació d’Entitats Excursionistes de Catalunya
URL:https://lambda.cat/esdeveniment/grup-de-muntanya-castelltallat-bages/
CATEGORIES:Excursions,Grups
ATTACH;FMTTYPE=image/jpeg:https://lambda.cat/wp-content/uploads/2025/11/CastelltallatBages.jpg
ORGANIZER;CN="Grup de Muntanya - Casal Lambda":MAILTO:muntanya@lambdaweb.org
END:VEVENT
BEGIN:VEVENT
DTSTART;TZID=Europe/Madrid:20251126T193000
DTEND;TZID=Europe/Madrid:20251126T203000
DTSTAMP:20260422T231727
CREATED:20251029T123134Z
LAST-MODIFIED:20251031T153607Z
UID:12724-1764185400-1764189000@lambda.cat
SUMMARY:Sortides Culturals. Teatre Eòlia
DESCRIPTION:ENTRADES EXHAURIDES!\n\nTEATRE EÒLIA. NO ES POT SABER
URL:https://lambda.cat/esdeveniment/sortides-culturals-teatre-eolia/
LOCATION:Teatre Eòlia\, Bailén 23\, Barcelona\, Barcelona\, 08010
CATEGORIES:Excursions,Sortides culturals
ATTACH;FMTTYPE=image/jpeg:https://lambda.cat/wp-content/uploads/2025/10/137-No-es-pot-saber-imagenes-0-002-scaled.jpg
ORGANIZER;CN="Sortides Culturals":MAILTO:activitats@lambda.cat
END:VEVENT
END:VCALENDAR