BEGIN:VCALENDAR
VERSION:2.0
PRODID:-//Casal Lambda - ECPv6.15.20//NONSGML v1.0//EN
CALSCALE:GREGORIAN
METHOD:PUBLISH
X-WR-CALNAME:Casal Lambda
X-ORIGINAL-URL:https://lambda.cat
X-WR-CALDESC:Esdeveniments per Casal Lambda
REFRESH-INTERVAL;VALUE=DURATION:PT1H
X-Robots-Tag:noindex
X-PUBLISHED-TTL:PT1H
BEGIN:VTIMEZONE
TZID:Europe/Madrid
BEGIN:DAYLIGHT
TZOFFSETFROM:+0100
TZOFFSETTO:+0200
TZNAME:CEST
DTSTART:20240331T010000
END:DAYLIGHT
BEGIN:STANDARD
TZOFFSETFROM:+0200
TZOFFSETTO:+0100
TZNAME:CET
DTSTART:20241027T010000
END:STANDARD
BEGIN:DAYLIGHT
TZOFFSETFROM:+0100
TZOFFSETTO:+0200
TZNAME:CEST
DTSTART:20250330T010000
END:DAYLIGHT
BEGIN:STANDARD
TZOFFSETFROM:+0200
TZOFFSETTO:+0100
TZNAME:CET
DTSTART:20251026T010000
END:STANDARD
BEGIN:DAYLIGHT
TZOFFSETFROM:+0100
TZOFFSETTO:+0200
TZNAME:CEST
DTSTART:20260329T010000
END:DAYLIGHT
BEGIN:STANDARD
TZOFFSETFROM:+0200
TZOFFSETTO:+0100
TZNAME:CET
DTSTART:20261025T010000
END:STANDARD
END:VTIMEZONE
BEGIN:VEVENT
DTSTART;TZID=Europe/Madrid:20251026T080000
DTEND;TZID=Europe/Madrid:20251026T170000
DTSTAMP:20260423T010012
CREATED:20251001T121519Z
LAST-MODIFIED:20251006T085229Z
UID:12666-1761465600-1761498000@lambda.cat
SUMMARY:Grup de Muntanya. La fageda de Grevolosa
DESCRIPTION:SORTIDA DE MUNTANYA\nDiumenge 26 d’octubre de 2025 \nFageda de la Grevolosa (Osona) \nDia del canvi d’hora \n \n  \nSORTIDA: Pels que vinguin de Barcelona serà a Renfe Fabra i Puig al carrer paral·lel a La Meridiana a les 8.00 h. \nItinerari en cotxe per Vic i cap a túnels de Bracons. Abans dels túnels agafar la sortida cap a Sant Andreu de la Vola i per l’antiga carretera arribar al Coll de Bracons\, on aparcarem. \n  \nEnllaç de la ruta: https://ca.wikiloc.com/rutes-senderisme/coll-de-bracons-la-grevolosa-coll-de-llancers-i-coll-de-bracons-153481943?h=xpqd6q5ezk&wa=sd&utm_campaign=badge&utm_source=unknown&utm_medium=unknown \n  \nComencem a caminar cap a les 09.30h en direcció al Coll de Llancers\, seguint el camí amb marques grogues. Tot el camí passa per dintre de una agradable fageda. \nPodem parar per beure i fer un petit mos. \nCanviem de direcció seguint senyals de postes\, anem baixant i\, cap al nord\, passarem pel Mirador del Collsacabra i arribarem a l’ermita de Sant Nazari\, on descansarem i dinarem. \nReprendrem el camí per endinsar-nos en la incomparable Fageda de la Grevolosa\, amb tres exemplar catalogats i un espai natural impressionant per la seva grandiositat i bellesa. \nTornarem als cotxes i si hi ha temps i ganes podem anar a la bonica vila de Torelló a fer un beure i conèixer els seus carrers antics. \n  \nhttps://ca.wikiloc.com/rutes-senderisme/coll-de-bracons-la-grevolosa-coll-de-llancers-i-coll-de-bracons-153481943?h=xpqd6q5ezk&wa=sd&utm_campaign=badge&utm_source=unknown&utm_medium=unknown \n  \nDADES: \nDistància aprox.:           12 km. \nDurada caminada:         3 hores \nDesnivell acumulat:      300 metres \nDificultat:                      moderada-baixa \n  \nQUÈ CAL PORTAR:    esmorzar i dinar\,  aigua\, bon calçat\, roba d’abric\,  gorra\,  protecció per la pluja (veure previsió del temps). \nPREU: socis gratuït / 5 € no socis) \nINSCRIPCIONS: \nEnvieu un e-mail (muntanya@lambdaweb.org) per reservar plaça indicant nom\, telèfon\, si sou soci\, i si disposeu de cotxe\, i els no socis feu un ingrès a BBVA ES72 0182 4609 9802 0116 3862\, indicant el nom i GREVOLOSA \nTambé us podeu apuntar directament al Casal Lambda (Centre LGTBI C/Comte Borrell\, 22\, Barcelona Tel. 933 195 550) \n  \nAQUESTA EXCURSIÓ NO INCLOU ASSEGURANÇA EN CAS D’ACCIDENT. \nL’assegurança corre a càrrec de cadascú. L’organització no assumeix cap responsabilitat pels danys o perjudicis que la pràctica de l’activitat pugui ocasionar a un mateix i/o a tercers\, si bé procurará evitar-los. \nGrup adherit a la Federació d’Entitats Excursionistes de Catalunya 
URL:https://lambda.cat/esdeveniment/grup-de-muntanya-la-fageda-de-grevolosa/
CATEGORIES:Excursions,Grups
ATTACH;FMTTYPE=image/jpeg:https://lambda.cat/wp-content/uploads/2025/10/horitzontal.jpg
END:VEVENT
END:VCALENDAR