BEGIN:VCALENDAR
VERSION:2.0
PRODID:-//Casal Lambda - ECPv6.15.20//NONSGML v1.0//EN
CALSCALE:GREGORIAN
METHOD:PUBLISH
X-WR-CALNAME:Casal Lambda
X-ORIGINAL-URL:https://lambda.cat
X-WR-CALDESC:Esdeveniments per Casal Lambda
REFRESH-INTERVAL;VALUE=DURATION:PT1H
X-Robots-Tag:noindex
X-PUBLISHED-TTL:PT1H
BEGIN:VTIMEZONE
TZID:Europe/Madrid
BEGIN:DAYLIGHT
TZOFFSETFROM:+0100
TZOFFSETTO:+0200
TZNAME:CEST
DTSTART:20240331T010000
END:DAYLIGHT
BEGIN:STANDARD
TZOFFSETFROM:+0200
TZOFFSETTO:+0100
TZNAME:CET
DTSTART:20241027T010000
END:STANDARD
BEGIN:DAYLIGHT
TZOFFSETFROM:+0100
TZOFFSETTO:+0200
TZNAME:CEST
DTSTART:20250330T010000
END:DAYLIGHT
BEGIN:STANDARD
TZOFFSETFROM:+0200
TZOFFSETTO:+0100
TZNAME:CET
DTSTART:20251026T010000
END:STANDARD
BEGIN:DAYLIGHT
TZOFFSETFROM:+0100
TZOFFSETTO:+0200
TZNAME:CEST
DTSTART:20260329T010000
END:DAYLIGHT
BEGIN:STANDARD
TZOFFSETFROM:+0200
TZOFFSETTO:+0100
TZNAME:CET
DTSTART:20261025T010000
END:STANDARD
END:VTIMEZONE
BEGIN:VEVENT
DTSTART;TZID=Europe/Madrid:20250911T080000
DTEND;TZID=Europe/Madrid:20250914T210000
DTSTAMP:20260423T022554
CREATED:20250730T105703Z
LAST-MODIFIED:20250731T090722Z
UID:12516-1757577600-1757883600@lambda.cat
SUMMARY:Grup de Muntanya. Val d'Echo-Selva d'Oza
DESCRIPTION:Sortida del Pont de l’Onze de Setembre\nVal d’Echo-Selva de Oza\nSortida Dijous 11 – Tornada Diumenge 14 \n \n  \nAnirem a visitar i caminar per la Val d’Echo a Osca\, gairebé a tocar de Navarra. Les caminades que farem seran al voltant de la Selva d’Oza. Aquesta vall és l’única pràcticament d’Osca que no té estació d’esquí al final de la vall\, per això s’ha conservat força verge. Un altre afegit és poder visitar els pobles de la vall. Aquests dies els passarem a un alberg que hi ha dins el càmping Borda Bisaltico\, com sempre estarem allotjats a mitja pensió. \nEl viatge es farà amb cotxes particulars. \nDIJOUS 11. \nSortida des de Palau Reial de Barcelona al punt de trobada habitual a les 08.00. Entre onze i onze i mitja ens trobarem tots al Restaurant MONREPOS a la sortida d’Osca per la A-23. És el lloc de les magdalenes per els que ja hi heu estat. Una vegada ens ajuntem marxarem cap a Siresa que es una mica abans del càmping on dormirem. Buscarem un lloc fresquet per dinar de pícnic i mirarem d’anar a l’allotjament a instal·lar-nos. Més tard anirem a caminar una mica a la vall de Aguas Tuertas. Caminada fàcil i lloc espectacular. Sopar i a dormir. \nDISTANCIA 6 km.  2 hores. DESNIVELL 300m. \n  \nDIVENDRES 12. \nAvui ens toca la caminada forta de la sortida. Pujada al Castillo de Acher. Sortirem el més aviat que puguem havent  esmorzat i anirem fins el càmping Selva de Oza on surt el camí cap un cim d’aquells emblemàtics  dins de l’excursionisme d’Osca. Dinar de pícnic. Quan acabem cap al càmping\, sopar i a dormir. \nDISTANCIA 14 Km. 6 hores. DESNIVELL 1100 M. No us espanteu\, la pujada és força progressiva. \n  \nDISSABTE 13. \nAvui ens ho prendrem amb una mica més de calma després de lo del dia anterior i pujarem fins al Ibon de Acherito. Serà una matinal amb final a un dels Ibons més populars de la vall. A la tarda mirarem d’anar al Monestir de Siresa\, una joia romànica que aprofitarem per visitar. Si tenim temps farem una visita a Echo per fer una cerveseta. \nDISTANCIA 10 Km. 4 hores. DESNIVELL 600 m. \n  \nDIUMENGE 14. \nL’últim dia anirem si queden forces a la Vall d’Estriviella. Vall auxiliar al començament de la Selva de Oza. \nDinar en algun lloc per acomiadar-nos i cap a Barcelona. \nDISTANCIA 6 Km. 3 hores. DESNIVELL 500 metres. \n  \nALLOTJAMENT. Alberg dins el càmping BORDA BISALTICO. Habitacions per quatre persones amb bany compartit. Hem reservat 12 places. El preu per nit és de 30 €  més o menys. Els llençols i la tovallola com és habitual últimament les heu de portar de casa o bé llogar-ho. \nMENJARS. A l’allotjament estarem a mitja pensió. Preu de 27 € per nit. Les begudes no estan incloses en el preu. Pícnic per els tres primers dies. \nDESPLAÇAMENTS. Cotxes particulars que ja es coordinaran més endavant. Quan feu la inscripció poseu si podeu portar cotxe\, si us plau. \nPREU = 3 NITS X 30 € = 90 €    //  3 MITGES PENSIONS  X 27 € = 81 €  // TOTAL =  171 € \nCaldrà afegir les despeses  dels cotxes que ja es calcularan al final de la sortida\, les begudes dels sopars\, la visita guiada al Monestir de Siresa i el dinar de l’últim dia. \n  \nINSCRIPCIONS:   \nEnvieu un e-mail (muntanya@lambdaweb.org) per reservar plaça indicant NOM I TELÈFON i feu l’ingrés de 100€ a BBVA 0182 4609 9802 0116 3862\, indicant el vostre nom i SELVADEOZA. \nEls que feu la inscripció feu-nos-ho saber també directament per Whatsapp  particular per saber quants serem. \n  \nMÉS INFORMACIÓ DE LA SORTIDA PÀGINA WEB selvaoza.es  Aquí trobareu la informació de les caminades: PÀGINA WEB BORDA BISALTICO. \n  \nAQUESTA EXCURSIÓ NO INCLOU ASSEGURANÇA EN CAS D’ACCIDENT.L’assegurança corre a càrrec de cadascú. L’organització no assumeix cap responsabilitat pels danys o perjudicis que la pràctica de l’activitat pugui ocasionar a un mateix i/o a tercers. \nGrup adherit a la Federació d’Entitats Excursionistes de Catalunya 
URL:https://lambda.cat/esdeveniment/grup-de-muntanya-val-decho-selva-doza/
CATEGORIES:Excursions,Grups
ATTACH;FMTTYPE=image/jpeg:https://lambda.cat/wp-content/uploads/2025/07/montanya-juny-format-quadrat-4.jpg
ORGANIZER;CN="Grup de Muntanya - Casal Lambda":MAILTO:muntanya@lambdaweb.org
END:VEVENT
BEGIN:VEVENT
DTSTART;TZID=Europe/Madrid:20250928T080000
DTEND;TZID=Europe/Madrid:20250928T220000
DTSTAMP:20260423T022554
CREATED:20250910T103343Z
LAST-MODIFIED:20250910T113656Z
UID:12594-1759046400-1759096800@lambda.cat
SUMMARY:Grup de Muntanya.
DESCRIPTION:Llafranc i Tamariu (Palafrugell) \nDiumenge 28 de setembre de 2025 \n \n  \nSortida amb cotxes particulars  \nPassat l’estiu la zona de Palafrugell esdevé una bona destinació per a fer-hi passejades i banys a les seves platges\, ja que el turisme es redueix considerablement. \nLloc de sortida de cotxes de Barcelona: 8 h de SANT ANDREU (Fabra i Puig). El lloc on deixarem els cotxes serà en aquest aparcament gratuït a l’entrada de Llafranc. Pels que aneu directament a Llafranc\, ens trobarem al punt de sortida (Pl. del Promontori) a les 9.30 h.  \n \nDescripció de l’excursió:  \nEn aquest enllaç de Wikiloc podeu veure la descripció. \nLa ruta començarà des de l’església de Santa Rosa Lima\, on enfilarem carrer amunt fins a trobar la pista forestal\, que ens permetrà arribar al Dolmen de Can Mina dels Torrents. Tot seguit continuarem el camí\, en direcció a Tamariu\, travessant la carretera GIV-6542. \nSeguint les indicacions\, el camí està molt ben senyalitzat\, i després d’una baixada per un corriol amb força pendent arribarem a la part alta de Tamariu\, on hi ha el Camí Vell de Tamariu que l’uneix amb Palafrugell. Prop d’aquí trobem la font d’en Cruanyes\, que Josep Pla menciona en el seu llibre “El meu poble” (Destino\, 1958). \nBaixant cap a Tamariu\, arribarem a la platja de la població. Actualment\, és un nucli turístic important de la costa de Palafrugell\, però antigament hi havia barraques de pescadors i tavernes on els treballadors palafrugellencs de l’època d’or de la indústria del suro acudien a gaudir de la cacera\, la pesca\, la cuina i la vida contemporània. \nDes d’aquí\, agafarem el camí de ronda en direcció a Sant Sebastià de la Guarda\, passant per Cala Pedrosa on farem (si el temps ho permet) una estona de bany i també aprofitarem per dinar. Al conjunt monumental de Sant Sebastià de la Guarda hi podrem visitar un jaciment ibèric del s. VI aC; una torre de guaita del s. XV (amb possible visita); una ermita i hostatgeria (s. XVIII) i un far del segle XIX. A més a més\, gaudirem de magnífiques vistes de les platges de Llafranc\, Calella de Palafrugell\, Cap Roig\, Palamós… \nDesprés només ens quedarà continuar pel camí de ronda fins a arribar al punt d’origen\, a Llafranc. \nDades:  \n\nDistància: 11 km (aproximadament)\nDurada caminada: 2\,5-3 hores\nDesnivell: +359 m\nDificultat: Moderada\n\n  \nQuè cal portar: Esmorzar\, dinar\, aigua (no hi ha fonts en tot el recorregut)\, pals\, barret\, banyador (o no)\, crema solar\, bon calçat\, impermeable (mai se sap…). \nPreu de la inscripció: No socis 5 € (socis gratuït). \nEl cost del transport en vehicles privats es calcularà allà mateix i serà igual per a tots els participants\, i la compensació també la mateixa (0\,20 €/km) per a tots els cotxes que surtin de Barcelona. \nInscripcions: Envieu un e-mail per reservar plaça (muntanya@lambdaweb.org)\, indicant el número de soci\, telèfon i si disposeu de vehicle\, i els no socis han de fer un ingrés a BBVA ES72 0182 4609 9802 0116 3862\, amb el concepte: NOM i LLAFRANC. També us podeu apuntar directament al Casal (Comte Borrell\, 22 – 08015 Barcelona\, tel. 93 319 55 50). \nAQUESTA EXCURSIÓ NO INCLOU ASSEGURANÇA EN CAS D’ACCIDENT.  \nL’assegurança va a càrrec de cadascú\, no assumint l’organització cap responsabilitat pels danys o perjudicis que la pràctica de l’activitat pugui ocasionar a un mateix i/o a tercers\, si bé vetllarà per tal d’evitar-lo. \nGrup adherit a la Federació d’Entitats Excursionistes de Catalunya
URL:https://lambda.cat/esdeveniment/grup-de-muntanya-4/
CATEGORIES:Excursions,Grups
ATTACH;FMTTYPE=image/jpeg:https://lambda.cat/wp-content/uploads/2025/09/Grup-de-Muntanya-20252.jpg
ORGANIZER;CN="Grup de Muntanya - Casal Lambda":MAILTO:muntanya@lambdaweb.org
END:VEVENT
END:VCALENDAR