BEGIN:VCALENDAR
VERSION:2.0
PRODID:-//Casal Lambda - ECPv6.15.20//NONSGML v1.0//EN
CALSCALE:GREGORIAN
METHOD:PUBLISH
X-WR-CALNAME:Casal Lambda
X-ORIGINAL-URL:https://lambda.cat
X-WR-CALDESC:Esdeveniments per Casal Lambda
REFRESH-INTERVAL;VALUE=DURATION:PT1H
X-Robots-Tag:noindex
X-PUBLISHED-TTL:PT1H
BEGIN:VTIMEZONE
TZID:Europe/Madrid
BEGIN:DAYLIGHT
TZOFFSETFROM:+0100
TZOFFSETTO:+0200
TZNAME:CEST
DTSTART:20250330T010000
END:DAYLIGHT
BEGIN:STANDARD
TZOFFSETFROM:+0200
TZOFFSETTO:+0100
TZNAME:CET
DTSTART:20251026T010000
END:STANDARD
BEGIN:DAYLIGHT
TZOFFSETFROM:+0100
TZOFFSETTO:+0200
TZNAME:CEST
DTSTART:20260329T010000
END:DAYLIGHT
BEGIN:STANDARD
TZOFFSETFROM:+0200
TZOFFSETTO:+0100
TZNAME:CET
DTSTART:20261025T010000
END:STANDARD
BEGIN:DAYLIGHT
TZOFFSETFROM:+0100
TZOFFSETTO:+0200
TZNAME:CEST
DTSTART:20270328T010000
END:DAYLIGHT
BEGIN:STANDARD
TZOFFSETFROM:+0200
TZOFFSETTO:+0100
TZNAME:CET
DTSTART:20271031T010000
END:STANDARD
END:VTIMEZONE
BEGIN:VEVENT
DTSTART;TZID=Europe/Madrid:20260320T190000
DTEND;TZID=Europe/Madrid:20260320T200000
DTSTAMP:20260422T151801
CREATED:20260302T162225Z
LAST-MODIFIED:20260320T150305Z
UID:13225-1774033200-1774036800@lambda.cat
SUMMARY:Els divendres al Lambda: Rússia\, drets i activistes LGBTIQ+. Projecció de curtmetratges russos i xerrada
DESCRIPTION:Rússia\, drets i activistes LGBTIQ+. Projecció de curtmetratges russos i xerrada\n  \n \n 
URL:https://lambda.cat/esdeveniment/els-divendres-al-lambda-russia-drets-i-activistes-lgbtiq-projeccio-de-curtmetratges-russos-i-xerrada/
LOCATION:Centre LGTBI de Barcelona\, Comte Borrell\, 22\, Barcelona\, Barcelona\, 08015\, Espanya
CATEGORIES:Els divendres al casal
ATTACH;FMTTYPE=image/png:https://lambda.cat/wp-content/uploads/2026/03/HORITZONTAL-6.png
END:VEVENT
END:VCALENDAR