BEGIN:VCALENDAR
VERSION:2.0
PRODID:-//Casal Lambda - ECPv6.15.20//NONSGML v1.0//EN
CALSCALE:GREGORIAN
METHOD:PUBLISH
X-WR-CALNAME:Casal Lambda
X-ORIGINAL-URL:https://lambda.cat
X-WR-CALDESC:Esdeveniments per Casal Lambda
REFRESH-INTERVAL;VALUE=DURATION:PT1H
X-Robots-Tag:noindex
X-PUBLISHED-TTL:PT1H
BEGIN:VTIMEZONE
TZID:Europe/Madrid
BEGIN:DAYLIGHT
TZOFFSETFROM:+0100
TZOFFSETTO:+0200
TZNAME:CEST
DTSTART:20250330T010000
END:DAYLIGHT
BEGIN:STANDARD
TZOFFSETFROM:+0200
TZOFFSETTO:+0100
TZNAME:CET
DTSTART:20251026T010000
END:STANDARD
BEGIN:DAYLIGHT
TZOFFSETFROM:+0100
TZOFFSETTO:+0200
TZNAME:CEST
DTSTART:20260329T010000
END:DAYLIGHT
BEGIN:STANDARD
TZOFFSETFROM:+0200
TZOFFSETTO:+0100
TZNAME:CET
DTSTART:20261025T010000
END:STANDARD
BEGIN:DAYLIGHT
TZOFFSETFROM:+0100
TZOFFSETTO:+0200
TZNAME:CEST
DTSTART:20270328T010000
END:DAYLIGHT
BEGIN:STANDARD
TZOFFSETFROM:+0200
TZOFFSETTO:+0100
TZNAME:CET
DTSTART:20271031T010000
END:STANDARD
END:VTIMEZONE
BEGIN:VEVENT
DTSTART;TZID=Europe/Madrid:20260414T183000
DTEND;TZID=Europe/Madrid:20260512T203000
DTSTAMP:20260423T015854
CREATED:20260415T165730Z
LAST-MODIFIED:20260415T165730Z
UID:13406-1776191400-1778617800@lambda.cat
SUMMARY:Grup de dones: Curs de fotografia emocional gratuït
DESCRIPTION:CURS DE FOTOGRAFIA EMOCIONAL: EXTRAIENT L’INVISIBLE\n \nEn el marc del dia de la Visibilitat Lèsbica (26 d’abril) el Grup de dones Lambda organitza aquest curs de fotografia que anirà a càrrec de Sara Bolognini. \nSerà un espai per a explorar la identitat\, el cos i la memòria a través de la imatge. Inspirat en la sensibilitat del col·lectiu LGTBI+ i obert a totes les persones que volen explorar-se en profunditat a través de la fotografia. Treballarem la llum\, la composició\, l’autoretrat i simbolització emocional. \nNo necessites experiència prèvia. Pots participar amb el teu mòbil o càmara. \n\nCurs de 5 sessions (14\, 21 i 28 d’abril i 5 i 12 de maig)\nInici: 14 d’abril (18:30 a 20:30h).\nOn: Centre Cultural La Farinera del Clot\nPreu: Gratuït\n\nInscripcions: de forma presencial o a través https://farinera.org/agenda/curs-fotografia-emocional 
URL:https://lambda.cat/esdeveniment/grup-de-dones-curs-de-fotografia-emocional-gratuit/
LOCATION:La Farinera\, Gran Via de les Corts Catalanes 837\, Barcelona
CATEGORIES:Grups
ATTACH;FMTTYPE=image/png:https://lambda.cat/wp-content/uploads/2026/04/HORITZONTAL-5.png
END:VEVENT
BEGIN:VEVENT
DTSTART;TZID=Europe/Madrid:20260423T120000
DTEND;TZID=Europe/Madrid:20260423T210000
DTSTAMP:20260423T015854
CREATED:20260415T174214Z
LAST-MODIFIED:20260420T175253Z
UID:13411-1776945600-1776978000@lambda.cat
SUMMARY:Celebra Sant Jordi i Santa Jordina al Casal Lambda
DESCRIPTION:CELEBRA LA DIADA DE SANTA JORDINA I SANT JORDI AMB NOSALTRES!\nEl proper dia 23 d’abril t’esperem per celebrar una diada molt especial al Social Lambda. Et convidem a què ens vinguis a visitar a partir de les 12h\, podràs mirar i remenar les novetats literàries de l’any i emportar-te la millor literatura LGTBI\, nova o de segona mà\, tot a molt bon preu. També comptarem\, a partir de les 18:30h\, i en el marc de les 4a Jornades de la Visibilitat lèsbica\, de la presentació de cinc llibres\, amb la presència de les seves autores. La conversa serà moderada per la Laura Barroso. \nEls llibres presentats seran “Vidas transgresoras” (Ana Escudero i Anna Solá)\, “Elisenda” (Pat Ubach)\, “Farsante” (Andrea Momoitio)\, “El fil vermell” (Silvia Terol i Pili Parra) i “Lacrima” (Yolanda López). \nDia: Dijous 23 d’abril\nHora: de 12 a 21h\nLloc: Social Lambda (C/Blasco de Garay\, 29. Barcelona) \nNo hi falteu! \n 
URL:https://lambda.cat/esdeveniment/santa-jordina-al-casal-lambda/
LOCATION:Social Lambda\, Blasco de Garay\, 29\, Barcelona\, Barcelona\, 08004
CATEGORIES:Casal,Grups
ATTACH;FMTTYPE=image/png:https://lambda.cat/wp-content/uploads/2026/04/HORITZONTAL2-1.png
END:VEVENT
END:VCALENDAR